Workbook
Name CMedios: Medios[Descripción]
Name CRespuestas: Fundamentación!$C$13:$C$24
Name CTramites: Fundamentación!$C$29:$C$31

Sheet Fundamentación
A1: Art | B1: Fracc | C1: Contenido
A2: 34 | B2: XV | C2: Recibir y sistematizar y, en su caso, requerir los informes mensuales que deberán enviarle los sujetos obligados, relativos a la recepción y tramitación de solicitudes de información pública que hayan recibido
A3: 54 | B3: VIII | C3: Llevar un registro de las solicitudes de acceso a la información, respuestas, resultados, costos de reproducción y envío
A4: 54 | B4: XII | C4: Informar por escrito a la CEGAIP, de forma mensual, sobre las solicitudes de información recibidas, el trámite y respuesta correspondiente en cada caso
B10: Catálogo de Tipos de Respuesta
B12: Respuesta | C12: Descripción
B13: 1 | C13: Información reservada.
B14: 2 | C14: Información confidencial.
B15: 3 | C15: Se pone a disposición la información para consulta directa.
B16: 4 | C16: Se requiere al solicitante.
B17: 5 | C17: Se tiene por no presentada la solicitud de información, por no atender requerimiento en plazo.
B18: 6 | C18: Sujeto obligado no competente, se le orienta ante qué sujeto obligado presentar su solicitud de información.
B19: 7 | C19: Información se encuentra disponible en la Plataforma.
B20: 8 | C20: Entrega de información por correo electrónico.
B21: 9 | C21: Entrega de información previo pago correspondiente.
B22: 10 | C22: Información Inexistente
B23: 11 | C23: Ampliación de Plazo
B24: 12 | C24: Otros
B26: Catálogo de Tipos de Trámites
B28: Trámite | C28: Descripción
B29: 1 | C29: Recibida
B30: 2 | C30: En trámite
B31: 3 | C31: Contestada
B34: Catálogo de Medios de Envío de la Respuesta
B36: Medio | C36: Descripción
B37: 1 | C37: PNT
B38: 2 | C38: Correo postal tradicional o por correo certificado con acuse de recibo
B39: 3 | C39: Correo electrónico
B40: 4 | C40: Personal
B41: 5 | C41: Telégrafo
B42: 6 | C42: Verbal

Sheet Formato
A1: Mes que reporta | B1: 7 | C1: <== Escriba en esta celda el número de mes que reporta y el año | F1: Resumen | G1: No. de solicitudes recibidas en el mes | H1: =COUNTIF(Formato!$I$10:$L$42,B1) -> 33 | I1: <== No escriba aquí nada, el formato calcula automáticamnete estos valores
B2: =IF(B1>0, CHOOSE(B1,"Enero", "Febrero", "Marzo", "Abril", "Mayo", "Junio", "Julio", "Agosto","Septiembre","Octubre","Noviembre","Diciembre"),"Escriba arriba número de mes a reportar") -> Julio | G2: No. de solicitudes respondidas en el mes | H2: =COUNTIF(Formato!$M$10:$M$42,B1) -> 23 | I2: <== No escriba aquí nada, el formato calcula automáticamnete estos valores
A3: Año que reporta | B3: 2019 | M3: Notas:
M4: 1 | N4: Solamente se capturan datos en celdas en amarillo.
M5: 2 | N5: Los folios pueden ser recibidos en un mes y contestados en otro. Para su correcta contabilización, si un folio es recibido en un mes y contestado en el siguiente, deberá incluirse en ambos reportes. El resumen tomará en cuenta esto para no cotabilizarlo doble.
A6: Reporte enviado a la CEGAIP, Art 34FXV , Art 54FVIII y XII
D7: Actualizado 22/02/2019
A9: Número de folio. | B9: Nombre del solicitante | C9: Fecha de Recepción | D9: Información Solicitada | E9: Trámite | F9: Respuesta | G9: Fecha de Respuesta | H9: Resultado | I9: Costo de Reproducción | J9: Medio de Notificación | K9: Costo de envio | L9: Mes de Recepción | M9: Mes de Respuesta
A10: CEGAIP-SI-022/2019-MANUAL | B10: JESÚS FEDERICO PIÑA FRAGA | C10: 43663 | D10: solicito el acceso y consulta a toda la documentación oficial que se generó por parte de los tres comisionados y las acciones con las medidas que se tomaron y levaron a cabo después de esas reuniones con las autoridades educativas estatales, para el apoyo solicitado en material y trabajo en colaboración en transparencia | E10: Contestada | F10: Se pone a disposición la información para consulta directa. | G10: 43686 | H10: Con fundamento en el artículo 151 de la Ley de Transparencia y Acceso a la Información Pública del Estado de San Luis Potosí, se le informa al respecto que, de una búsqueda dentro de los archivos que obran en esta Unidad Administrativa, se encontraron las reuniones que usted refiere, por lo que se adjunta a la presente, copia simple de las agendas del suscrito de los meses agosto y septiembre del año 2018, en donde encontrará la información solicitada por Usted. Asimismo, le reitero que el suscrito no ha tenido reunión alguna con el titular de la Secretaría de Educación de Gobierno del Estado, Ing. Joel Ramírez Díaz, en la cual haya sido acompañado por las Comisionadas que integran este Organismo Constitucional Autónomo, en las respectivas fechas, tal y como se le mencionó en la respuesta a su solicitud de información CEGAIP-SI-018/2019-MANUAL. Con respecto a las reuniones que hace mención en la presente solicitud de información, y que el suscrito, de manera personal y sin compañía alguna de funcionarios de la CEGAIP, sostuvo con el Titular de la Secretaría de Educación de Gobierno del Estado, Ing. Joel Ramírez Díaz, se le informa que no se generó documentación alguna por parte de este Sujeto Obligado, toda vez que las mismas tuvieron por objeto, presentar de manera informal al nuevo personal de ese sujeto obligado que colaboraría en la Unidad de Transparencia, así como platicar de la coordinación que llevarían a cabo internamente para atender de manera correcta las solicitudes de información que recibiera la propia Dependencia; por lo que resulta necesario hacer de su conocimiento que no se elaboró documentos alguno, ya que los asuntos allí tratados no lo requerían al carecer de la formalidad debida. Lo anterior encuentra sustento en el criterio 03/17, emitido por el Pleno del Instituto Nacional de Transparencia, Acceso a la Información y Protección de Datos Personales (INAI), que señala lo siguiente: “No existe obligación de elaborar documentos ad hoc para atender las solicitudes de acceso a la información. Los artículos 129 de la Ley General de Transparencia y Acceso a la Información Pública y 130, párrafo cuarto, de la Ley Federal de Transparencia y Acceso a la Información Pública, señalan que los sujetos obligados deberán otorgar acceso a los documentos que se encuentren en sus archivos o que estén obligados a documentar, de acuerdo con sus facultades, competencias o funciones, conforme a las características físicas de la información o del lugar donde se encuentre. Por lo anterior, los sujetos obligados deben garantizar el derecho de acceso a la información del particular, proporcionando la información con la que cuentan en el formato en que la misma obre en sus archivos; sin necesidad de elaborar documentos ad hoc para atender las solicitudes de información.” Además, al no encontrar la información referida en los términos por el solicitante, resulta innecesario declarar la inexistencia de la misma; lo anterior, con fundamento en el criterio 07/17, emitido por el Pleno del Instituto Nacional de Transparencia, Acceso a la Información y Protección de Datos Personales (INAI), que señala lo siguiente: “Casos en los que no es necesario que el Comité de Transparencia confirme formalmente la inexistencia de la información. La Ley General de Transparencia y Acceso a la Información Pública y la Ley Federal de Transparencia y Acceso a la Información Pública establecen el procedimiento que deben seguir los sujetos obligados cuando la información solicitada no se encuentre en sus archivos; el cual implica, entre otras cosas, que el Comité de Transparencia confirme la inexistencia manifestada por las áreas competentes que hubiesen realizado la búsqueda de la información. No obstante, lo anterior, en aquellos casos en que no se advierta obligación alguna de los sujetos obligados para contar con la información, derivado del análisis a la normativa aplicable a la materia de la solicitud; y además no se tengan elementos de convicción que permitan suponer que ésta debe obrar en sus archivos, no será necesario que el Comité de Transparencia emita una resolución que confirme la inexistencia de la información.” No obstante, como ya se le ha informado, las asistencias a dichas reuniones fueron documentadas en las agendas del suscrito. Asimismo, se hace de su conocimiento que la información se le entrega en el estado en que se encuentra, de conformidad con el artículo 60 y 61 de la Ley de Transparencia y Acceso a la Información Pública del Estado de San Luis Potosí. Con gusto le informo que con fundamento al artículo 151 de la Ley de Transparencia y Acceso a la Información Pública del Estado de San Luis Potosí, adjunto a la presente copia simple de la agenda del mes de agosto del 2018. En un ejercicio de Transparencia proactiva en relación con el principio de máxima publicidad establecido en el artículo 8° fracción VI de la materia, hago de su conocimiento que, en la agenda que se anexa al presente documento, encontrará dos reuniones que sostuve con el Secretario de Educación, la primera fue el día 24 de agosto del 2018, en punto de las 14:00 hrs, en las instalaciones de la Secretaría de Educación de Gobierno del Estado, reunión a la que también asistió la Profesora Griselda Álvarez Oliveros Directora General del Sistema Educativo Estatal Regular y en la cual el objetivo de la reunión fue tratar temas de transparencia específicamente relacionado con las obligaciones de transparencia de la Secretaría de Educación de Gobierno del Estado y del Sistema Educativo Estatal Regular, la segunda reunión fue el día 31 de agosto del 2018, contando con la asistencia de la Comisionada Numeraria de la CEGAIP la Lic. Mariajosé González Zarzosa y la Lic. Jessica Carreón Carrizales Secretaria Técnica de la CEGAIP, en punto de las 10:30 hrs, en las instalaciones dela Secretaría de Educación de Gobierno del Estado, siendo el objetivo de la reunión programar acciones enfocadas en la Protección de Datos Personales y el Acceso a la Información Pública para el ciclo escolar 2018-2019, además de solicitar apoyo para la generación de material de promoción para la comunidad educativa a nivel básico, específicamente preescolar y primaria. De igual manera, le comunico que en dichas reuniones no se generó documentación oficial, además le informo que las reuniones se solicitaron de manera telefónica. Lo anterior encuentra sustento en el criterio 03/17, emitido por el Pleno del Instituto Nacional de Transparencia, Acceso a la Información y Protección de Datos Personales (INAI), que señala lo siguiente: “No existe obligación de elaborar documentos ad hoc para atender las solicitudes de acceso a la información. Los artículos 129 de la Ley General de Transparencia y Acceso a la Información Pública y 130, párrafo cuarto, de la Ley Federal de Transparencia y Acceso a la Información Pública, señalan que los sujetos obligados deberán otorgar acceso a los documentos que se encuentren en sus archivos o que estén obligados a documentar, de acuerdo con sus facultades, competencias o funciones, conforme a las características físicas de la información o del lugar donde se encuentre. Por lo anterior, los sujetos obligados deben garantizar el derecho de acceso a la información del particular, proporcionando la información con la que cuentan en el formato en que la misma obre en sus archivos; sin necesidad de elaborar documentos ad hoc para atender las solicitudes de información.” Resulta aplicable el referido criterio, ya que en aras de garantizar la eficiencia del derecho de acceso a la información, la Ley de Transparencia Local estableció los criterios mínimos que deben considerar los Sujetos Obligados, como lo es la publicidad de la información para efecto de que se evidencie toda aquella actuación o decisión pública sujeta al escrutinio público, esto a través de las obligaciones de transparencia, que se encuentran previstas en la Ley de la materia, en el artículo 84 fracción XII de la citada normatividad es decir, la agenda de actividades y las reuniones públicas llevadas a cabo por la suscrita, por lo que no existe obligación de elaborar documentos ad hoc para atender la presente solicitud de información. Además, al no encontrar la información referida en los términos por el solicitante, resulta innecesario declarar la inexistencia de la misma; lo anterior, con fundamento en el criterio 07/17, emitido por el Pleno del Instituto Nacional de Transparencia, Acceso a la Información y Protección de Datos Personales (INAI), que señala lo siguiente: “Casos en los que no es necesario que el Comité de Transparencia confirme formalmente la inexistencia de la información. La Ley General de Transparencia y Acceso a la Información Pública y la Ley Federal de Transparencia y Acceso a la Información Pública establecen el procedimiento que deben seguir los sujetos obligados cuando la información solicitada no se encuentre en sus archivos; el cual implica, entre otras cosas, que el Comité de Transparencia confirme la inexistencia manifestada por las áreas competentes que hubiesen realizado la búsqueda de la información. No obstante, lo anterior, en aquellos casos en que no se advierta obligación alguna de los sujetos obligados para contar con la información, derivado del análisis a la normativa aplicable a la materia de la solicitud; y además no se tengan elementos de convicción que permitan suponer que ésta debe obrar en sus archivos, no será necesario que el Comité de Transparencia emita una resolución que confirme la inexistencia de la información.” Asimismo, se hace de su conocimiento que la información se le entrega en el estado en que se encuentra, de conformidad con el artículo 60 y 61 de la Ley de Transparencia y Acceso a la Información Pública del Estado de San Luis Potosí. Finalmente, de conformidad con el artículo 154 tercer párrafo de la Ley de Transparencia y Acceso a la Información Pública del Estado de San Luis Potosí, se le informa que en caso de inconformidad podrá interponer el recurso de revisión establecido en el artículo 166 de la Ley de Transparencia y Acceso a la Información Pública del Estado de San Luis Potosí. | I10: NINGUNO | J10: Personal | K10: NINGUNO | L10: =IF(Formato!$C10<>"",MONTH(C10),"") -> 7 | M10: =IF(Formato!$G10<>"",MONTH(G10),"") -> 8
A11: CEGAIP-SI-197/2019-00997719-PNT | B11: GRISELDA HARO DAVILA | C11: 43663 | D11: COPIA ELECTRONICA DEL EXPEDIENTE NUMERO CEGAIP-PISA-085/2016-1 | E11: En trámite | F11: Información se encuentra disponible en la Plataforma. | H11: Al cierre del mes, esta solicitud se encuentra en trámite según los plazos establecidos en la Ley de Transparencia y Acceso a la Información Pública del Estado. | I11: NINGUNO | J11: PNT | K11: NINGUNO | L11: =IF(Formato!$C11<>"",MONTH(C11),"") -> 7 | M11: =IF(Formato!$G11<>"",MONTH(G11),"")
A12: CEGAIP-SI-196/2019-00989419-PNT | B12: Miguel Gutierrez Lopez | C12: 43662 | D12: Solicitud de información: Situación de la Población Penitenciaria en el Centro Estatal de Reinserción Social 1 La Pila Se solicita información detallada de los siguientes elementos característicos de cada una las personas reclusas sentenciadas en el Centro Estatal de Reinserción Social 1 La Pila: Sexo, Edad, Escolaridad, Nacionalidad, Año de ingreso, Tipo de ingreso, Hecho delictivo imputado, Actividad ocupacional, Tiempo que se han encontrado privadas de su libertad, Situación de salud, Diagnóstico psiquiátrico, Duración de la pena de prisión. Se solicita información detallada de los siguientes elementos característicos de cada una las personas reclusas en proceso de sentencia o procesadas (prisión preventiva) Centro Estatal de Reinserción Social 1 La Pila: Sexo, Edad, Escolaridad, Nacionalidad, Año de ingreso, Tipo de ingreso, Hecho delictivo imputado, Actividad ocupacional, Tiempo que se han encontrado privadas de su libertad, Situación de salud, Diagnóstico psiquiátrico | E12: Contestada | F12: Información se encuentra disponible en la Plataforma. | G12: 43663 | H12: Se hace de su conocimiento con fundamento en el artículo 158 de la Ley de Transparencia y Acceso a la Información Pública del Estado de San Luis Potosí, y que en virtud de que el artículo 32 fracción X, del Reglamento Interior de la Comisión Estatal de Garantía de Acceso a la Información Pública del Estado de San Luis Potosí, solamente establece la obligación de que esta Comisión por medio de las Unidades Administrativas, atiendan y contesten dentro de su ámbito de competencia las solicitudes de acceso a la Información a través de la Unidad de Transparencia, esta Comisión Estatal de Garantía y Acceso a la Información de San Luis Potosí, no genera, resguarda o posee lo relativo a la información a que se refiere en su solicitud, así como tampoco es posible canalizar o turnar su requerimiento, ya que no podemos actuar como intermediarios entre usted y el Sujeto Obligado competente para atender su petición. Por lo anteriormente mencionado, me permito comunicarle que la información solicitada no se encuentra dentro de nuestras obligaciones según lo establecido en los artículos 20 y 151 de la Ley de Transparencia y Acceso a la información Pública del Estado de San Luis Potosí, ya que únicamente existe la obligación legal y administrativa de contar con la documentación que pertenece a la Institución, mas no aquella que refiere en su petición, es por ello que con fundamento en el artículo 54 fracción III de la Ley Estatal de la materia le sugiero que pudiera replantear su solicitud de manera clara y especifica también a través del Sistema de Solicitudes de Acceso a la Información (INFOMEX), en Ente Obligado: Poder Ejecutivo y en Dependencia o Entidad Pública: Secretaría General de Gobierno, siendo este el sujeto obligado considerado que pudiera atender o en su caso orientar lo referente a su solicitud. De igual manera y si lo prefiere, puede presentarla directamente ante la Unidad de Transparencia de la entidad obligada antes mencionada, de la cual a continuación proporciono sus datos extraídos de la Plataforma Estatal de Transparencia, los cuales también puede consultar en la siguiente liga electrónica: http://www.cegaipslp.org.mx/webcegaip2019.nsf/2e2c2e16181e1bc98625817700671a6a/bb529676ebe8897f8625842b00590090?OpenDocument TITULAR DE LA UNIDAD DE TRANSPARENCIA: JOSÉ ÁNGEL LARA GARCIA Dirección: Peatonal Jardín Hidalgo 11, Ciudad San Luis Potosí, San Luis Potosí C.P. 78000 Teléfonos: 1442609 276 1442609 277 Horario: 08:00 a 15:00 hrs. Correo electrónico: sgg_unidad_informacion@slp.gob.mx | I12: NINGUNO | J12: PNT | K12: NINGUNO | L12: =IF(Formato!$C12<>"",MONTH(C12),"") -> 7 | M12: =IF(Formato!$G12<>"",MONTH(G12),"") -> 7
A13: CEGAIP-SI-195/2019-00986119-PNT | B13: Miguel Gutierrez Lopez | C13: 43661 | D13: primera sentencia de amparo | E13: En trámite | F13: Se requiere al solicitante. | G13: 43682 | H13: Al cierre del mes, esta solicitud se encuentra en trámite según los plazos establecidos en la Ley de Transparencia y Acceso a la Información Pública del Estado. | I13: NINGUNO | J13: PNT | K13: NINGUNO | L13: =IF(Formato!$C13<>"",MONTH(C13),"") -> 7 | M13: =IF(Formato!$G13<>"",MONTH(G13),"") -> 8
A14: CEGAIP-SI-194/2019-00976419-PNT | B14: mauricio javier puente ZAMORA | C14: 43661 | D14: solicito copia digital de todas las resoluciones de recurso de revisión con sus respectivas respuestas de los municipios de soledad de graciano sanchez, real de catorce y cerro de san pedro en el periodo de 1 de octubre a la fecha de la solicitud | E14: En trámite | F14: Información se encuentra disponible en la Plataforma. | H14: Al cierre del mes, esta solicitud se encuentra en trámite según los plazos establecidos en la Ley de Transparencia y Acceso a la Información Pública del Estado. | I14: NINGUNO | J14: PNT | K14: NINGUNO | L14: =IF(Formato!$C14<>"",MONTH(C14),"") -> 7 | M14: =IF(Formato!$G14<>"",MONTH(G14),"")
A15: CEGAIP-SI-021/2019-MANUAL | B15: JESÚS FEDERICO PIÑA FRAGA | C15: 43657 | D15: SOLICITO ACCESO Y CONSULTA A LOS DOCUMENTOS OFICIALES QUE ACREDITEN LA ESTANCIA, ASISTENCIA, SERVICIOS Y TODO LO QUE SE HAYA GENERADO PARA QUE LA LIC. JAZMIN ALEJANDRA TORRES GUEVARA QUIEN LABORO O ASISTIO A LAS INSTALACIONES DE ESA COMISION DURANTE DIAS MESES O AÑOS. | E15: Contestada | F15: Se pone a disposición la información para consulta directa. | G15: 43684 | H15: de conformidad con el artículo 43, fracción III del reglamento interior de esta CEGAIP, es a esta dirección a quien le corresponde elaborar los contratos en los que esta Comisión de Transparencia sea parte. Así, después de una búsqueda exhaustiva en los archivos, tanto de manera física como electrónica que están en esta dirección a mi cargo, no encontré documento alguno sobre lo solicitado, es decir, que no existe contrato o documento en donde Jazmín Alejandra Torres Guevara haya recibido alguna contraprestación por parte de esta Comisión de Transparencia derivada de algún tipo de relación contractual. Por último, de conformidad con el artículo 154 de la Ley de Transparencia y Acceso a la Información Pública del Estado hago que conocimiento del solicitante que en contra de la respuesta a la presente solicitud de acceso a la información pública puede interponer el recurso de revisión dentro del plazo de quince días contados a partir del día siguiente de la notificación de la presente respuesta en las oficinas ubicadas en la avenida Cordillera Himalaya 605, Lomas Cuarta Sección o bien, mediante la propia Plataforma Nacional de Transparencia . Al respecto se informa que no obra acuerdo de pleno en el que conste lo solicitado por el peticionario de la información. Se le comunica que dentro de los archivos que genera y resguarda esta dirección de Administración y Finanzas, no obra documento alguno de la Lic. Jazmín Alejandra Torres Guevara, así mismo no ha recibido recurso público del presupuesto de esta Comisión | I15: NINGUNO | J15: Personal | K15: NINGUNO | L15: =IF(Formato!$C15<>"",MONTH(C15),"") -> 7 | M15: =IF(Formato!$G15<>"",MONTH(G15),"") -> 8
A16: CEGAIP-SI-020/2019-MANUAL | B16: JESÚS FEDERICO PIÑA FRAGA | C16: 43657 | D16: SOLICITO CONOCER Y SABER EL NOMBRE-S DE LOS INTEGRANTES DEL PLENO DE ESA COMISION, QUE UNA VEZ QUE RECIBIERON LA COPIA DE CONOCIMIENTO DE MI CUMPLIMIENTO AL REQUERIMIENTO QUE ME HIZO EL CONTRALOR INTERNO DE LA CEGAIP POR CONDUCTO DE LA C.P. NANCY FABIOLA NAVA HERNANDEZ, AUTORIDAD INVESTIGADORA FACULTADA POR EL PLENO Y ADSCRITA AL ORGANO INTERNO DE CONTROL, DE FECHA 11-JUNIO-2019. DICHO CUMPLIMIENTO LO REALICE EL DIA 19-JUNIO-2019, EL CUAL FUE DIRIGIDO A LA CONTRALORIA INTERNA DE LA CEGAIP Y RECIBIDO MISMA FECHA A LAS 15.00 HRS. PERO SE LE ENTREGO COPIA DE CONOCIMIENTO AL PLENO DE LA CEGAIP, SEGÚN SELLO DE RECIBIDO. EL DIA DE AYER AL COMUNICARME CON LA PROYECTISTA DE LA PONENCIA UNO(1) PARA SOLICITARLE LA DEVOLUCION DEL “CD” QUE ENTREGUE PARA SER ESTUDIADO Y ANALIZADO EN RESOLUCION DEL RR-943-2018-1, ME COMENTO QUE ME SOLICITABA UNA COPIA DE DONDE DENUNCIO UN CONFLICTO DE INTERESES, RESPECTO A LA DENUNCIA O CUMPLIMIENTO AL REQUERIMIENTO Y MI CUMPLIMIENTO AL ORGANO INTERNO DE CONTROL, ESTANDO MUY EVIDENTE LA DIVULGACION DEL CONTENIDO DE MI ESCRITO O CUMPLIMIENTO DEL REQUERIMIENTO SOLICITADO POR EL O.I.C… ESTA DIVULGACION LA LLEVO A CABO ALGUIEN DEL PLENO O TODO EL PLENO, POR LO QUE HOY SOLICITO SABER EL NOMBRE O NOMBRES DE QUIENES LE COMUNICARON, INFORMARON, HICIERON DE CONOCIMIENTO DE LA PROYECTISTA MARCELA ACOSTA IBAÑEZ, QUIEN FUE QUIEN ME SOLICITO COPIA PARA SU DEFENSA. POR ESTE MISMO CONDUCTO SOLICITO AL PLENO Y AL ORGANO DE CONTROL INTERNO DE LA CEGAIP, ME INDIQUEN O AUTORICEN LA ENTREGA DE LA COPIA QUE ME FUE SOLICITADA POR LA SERVIDORA PUBLICA MENCIONADA, YA QUE ELLA DICE QUE SE ENTERO POR MEDIO DE LA COPIA QUE SE ENTREGO AL PLENO, ACLARO: NO MENCIONO NADA DE LO QUE SE ENTREGO EN LA CONTRALORIA INTERNA, SINO EN EL PLENO, POR LO QUE AHORA SOLICITO LA AUTORIZACION PARA HACERLE LA ENTREGA NO DE LA COPIA AL PLENO PORQUE ESA NO LA TENGO Y ESA LA PORDRA ENTREGAR EL MISMO PLENO, PERO SI RECIBO AUTORIZACION PARA LA ENTREGA, SERA LA QUE TENGO Y ESTA SELLADA POR LA CONTRALORIA INTERNA Y LA OFICIALIA DE PARTES DE LA CEGAIP. | E16: Contestada | F16: Se pone a disposición la información para consulta directa. | G16: 43682 | H16: En atención a la citada solicitud, en mi carácter de titular del Órgano Interno de Control de esta Comisión tengo a bien manifestar que si bien es cierto el documento objeto de la solicitud deriva de un requerimiento de la autoridad investigadora dependiente de esta contraloría, no es posible manifestarme a lo señalado en el cuerpo del escrito, en virtud de que este órgano se encuentra imposibilitado para indicar o autorizar la entrega de dicho acuse, ya que el documento objeto de la solicitud obra en poder del solicitante, lo anterior de conformidad con el numeral 178 del Código Procesal Administrativo para el Estado. Respecto a la parte de su solicitud de información en el sentido de “SOLICITO CONOCER Y SABER EL NOMBRE-S DE LOS INTEGRANTES DEL PLENO DE ESA COMISIÓN, QUE UNA VEZ QUE RECIBIERON LA COPIA DE CONOCIMIENTO DE MI CUMPLIMIENTO AL REQUIERIMIENTO QUE ME HIZO EL CONTRALOR INTERNO DE LA CEGAIP POR CONDUCTO DE LA C.P. NANCY FABIOLA NAVA HERNANDEZ, AUTORIDAD INVESTIGADORA FACULTADA POR EL PLENO Y ADSCRITA AL ORGANO INTERNO DE CONTROL, DE FECHA 11 DE JUNIO DE 2019. DICHO CUMPLIMIENTO LO REALICE EL DIA 19-JUNIO-2019, EL CUAL FUE DIRIGIDO A LA CONTRALORIA INTERNA DE LA CEGAIP Y RECIBIDO MISMA FECHA A LAS 15.00 Hs., PERO SE LE ENTREGO COPIA DE CONOCIMIENTO AL PLENO DE LA CEGAIP, SEGÚN SELLO DE RECIBIDO”, se informa al peticionario que el escrito de fecha 19 de junio de 2019 a que hace referencia en su solicitud de información, fue enlistado en el orden del día de la Sesión Extraordinaria de fecha 26 de junio de 2019, y los integrantes del Pleno son Paulina Sánchez Pérez del Pozo como Comisionada Presidente, Alejandro Lafuente Torres como Comisionado, Mariajosé González Zarzosa como Comisionada y Rosa María Motilla García como Secretaría de Pleno. Tocante a la parte de su solicitud en el sentido de: “SOLICITO SABER EL NOMBRE O NOMBRES DE QUIENES LE COMUNICARON, INFORMARON, HICIERON DEL CONOCIMIENTO DE LA PROYECTISTA MARCELA ACOSTA IBAÑEZ, QUIEN FUE QUIEN ME SOLICITO COPIA PARA SU DEFENSA”, se informa al peticionario que no obra documento alguno en el que se contenga la información que solicita. En lo que corresponde a la parte de su solicitud en el sentido de: “POR ESTE MISMO CONDUCTO SOLICITO AL PLENO Y AL ÓRGANO DE CONTROL INTERNO DE LA CEGAIP, ME INDIQUEN O AUTORICEN LA ENTREGA DE LA COPIA QUE ME FUE SOLICITADA POR LA SERVIDORA PÚBLICA MENCIONADA, YA QUE ELLA DICE QUE SE ENTERO POR MEDIO DE LA COPIA QUE SE ENTREGO AL PLENO, ACLARO: NO MENCIONO NADA SOBRE LO QUE SE ENTREGO EN LA CONTRALORIA INTERNA SINO EN EL PLENO, POR LO QUE AHORA SOLICITO LA AUTIRIZACION PARA HACERLE LA ENTREGA NO DE LA COPIA AL PLENO PORQUE ESA NO LA TENGO Y SOLO LA PODRA ENTREGAR EL MISMO PLENO, PERO SI RECIBO AUTORIZACION PARA LA ENTREGA SERA LA QUE TENGO Y ESTA SELLADA POR LA CONTRALORIA INTERNA Y LA OFICIALIA DE PARTES DE LA CEGAIP”, le informo que el Pleno de esta Comisión en la Sesión Extraordinaria de fecha 17 de julio de 2019, a través del acuerdo de Pleno CEGAIP-1106/2019.S.E. otorgó respuesta a esta parte de la solicitud, por lo que a continuación se transcribe el mismo para su conocimiento: “……… 8. Asuntos Generales. 8.1.- Se da cuenta con la solicitud de información CEGAIP-SI-20/2019-MANUAL, signada por el C. Jesús Federico Piña Fraga, a través de la cual en lo que a este Pleno corresponde solicita: “…POR ESTE MISMO CONDUCTO SOLICITO AL PLENO Y AL ÓRGANO DE CONTROL INTERNO DE LA CEGAIP, ME INDIQUEN O AUTORICEN LA ENTREGA DE LA COPIA QUE ME FUE SOLICITADA POR LA SERVIDORA PÚBLICA MENCIONADA, YA QUE ELLA DICE QUE SE ENTERO POR MEDIO DE LA COPIA QUE SE ENTREGO AL PLENO, ACLARO: NO MENCIONO NADA SOBRE LO QUE SE ENTREGO EN LA CONTRALORIA INTERNA SINO EN EL PLENO, POR LO QUE AHORA SOLICITO LA AUTIRIZACION PARA HACERLE LA ENTREGA NO DE LA COPIA AL PLENO PORQUE ESA NO LA TENGO Y SOLO LA PODRA ENTREGAR EL MISMO PLENO, PERO SI RECIBO AUTORIZACION PARA LA ENTREGA SERA LA QUE TENGO Y ESTA SELLADA POR LA CONTRALORIA INTERNA Y LA OFICIALIA DE PARTES DE LA CEGAIP…” Comisionada Presidente Paulina Sánchez Pérez del Pozo: Como se ve, lo requerido por el solicitante es una autorización para entregar copia de su acuse de recibo del escrito de fecha 19 de julio de 2019, presentado ante esta Comisión en la misma fecha, es decir, que el peticionario solicita autorización respecto de un documento de su propia autoría y que se encuentra en su poder, por lo que, tomando en cuenta lo anterior, considero que no corresponde a este Pleno otorgar la autorización que solicita, pues el propio peticionario es responsable del uso que realice sobre los documentos que obren en su poder, máxime que en este caso, es un documento que se encuentra firmado por él mismo. Es decir, que la autorización que solicita, se encuentra fuera del marco de las atribuciones encomendadas a este Órgano por Ministerio de Ley. En ese sentido, propongo otorgar respuesta a la parte de su solicitud de información antes transcrita en ese sentido. Se somete a votación el proyecto de resolución propuesto: Comisionada Presidente Paulina Sánchez Pérez del Pozo: A favor. Comisionado Alejandro Lafuente Torres: A favor. Comisionada Mariajosé González Zarzosa: A favor. En consecuencia, con número de acuerdo CEGAIP-1106/2019.S.E. se aprueba por Unanimidad de Votos otorgar respuesta a la parte de la solicitud de información CEGAIP-SI-20/2019-MANUAL, que a continuación se transcribe: “…POR ESTE MISMO CONDUCTO SOLICITO AL PLENO Y AL ÓRGANO DE CONTROL INTERNO DE LA CEGAIP, ME INDIQUEN O AUTORICEN LA ENTREGA DE LA COPIA QUE ME FUE SOLICITADA POR LA SERVIDORA PÚBLICA MENCIONADA, YA QUE ELLA DICE QUE SE ENTERO POR MEDIO DE LA COPIA QUE SE ENTREGO AL PLENO, ACLARO: NO MENCIONO NADA SOBRE LO QUE SE ENTREGO EN LA CONTRALORIA INTERNA SINO EN EL PLENO, POR LO QUE AHORA SOLICITO LA AUTIRIZACION PARA HACERLE LA ENTREGA NO DE LA COPIA AL PLENO PORQUE ESA NO LA TENGO Y SOLO LA PODRA ENTREGAR EL MISMO PLENO, PERO SI RECIBO AUTORIZACION PARA LA ENTREGA SERA LA QUE TENGO Y ESTA SELLADA POR LA CONTRALORIA INTERNA Y LA OFICIALIA DE PARTES DE LA CEGAIP…” En el sentido siguiente: No corresponde a este Pleno otorgar la autorización que solicita, pues el propio peticionario es responsable del uso que realice sobre los documentos que obren en su poder, máxime que en este caso, es un documento que se encuentra firmado por él mismo. Es decir, que la autorización que solicita, se encuentra fuera del marco de las atribuciones encomendadas a este Órgano por Ministerio de Ley. En ese sentido, propongo otorgar respuesta a la parte de su solicitud de información antes transcrita en ese sentido. Se ordena a la Secretaria de Pleno realizar las gestiones para remitir esta parte de la respuesta a la solicitud que aquí nos ocupa a la Unidad de Transparencia de esta Comisión, para los efectos correspondientes.” Finalmente, de conformidad con el artículo 154 tercer párrafo de la vigente Ley de Transparencia y Acceso a la Información Pública del Estado de San Luis Potosí, se le hace de su conocimiento que en caso de inconformidad podrá interponer el recurso de revisión establecido en el artículo 166 de la citada Ley de Transparencia. | I16: NINGUNO | J16: Personal | K16: NINGUNO | L16: =IF(Formato!$C16<>"",MONTH(C16),"") -> 7 | M16: =IF(Formato!$G16<>"",MONTH(G16),"") -> 8
A17: CEGAIP-SI-193/2019-00958919-PNT | B17: .jose salvador cisneros hernandez cisneros | C17: 43657 | D17: Solicito saber cuántos trabajadores de gobierno hay en su estado y/o ayuntamientos. Cuantos pertenecen al rubro denominado, base, honorarios, estructura, eventuales y nomina 8 o en su caso si existe otra denominación cual es en su para su estado, Así mismo solicito saber con qué beneficios legales cuentan todos y cada uno de los trabajadores Relación a los trabajadores de estructura, base honorarios eventuales y nomina 8. Es decir si por poner solo un ejemplo: Si cuentan con 25670 trabajadores de base, 155 de estructura, 218 nomina 8, 218, y 633 de honorarios y eventuales del gran total que porcentaje le corresponde a cada rubro. | E17: Contestada | F17: Información se encuentra disponible en la Plataforma. | G17: 43658 | H17: Se hace de su conocimiento con fundamento en el artículo 158 de la Ley de Transparencia y Acceso a la Información Pública del Estado de San Luis Potosí, y que en virtud de que el artículo 32 fracción X, del Reglamento Interior de la Comisión Estatal de Garantía de Acceso a la Información Pública del Estado de San Luis Potosí, solamente establece la obligación de que esta Comisión por medio de las Unidades Administrativas, atiendan y contesten dentro de su ámbito de competencia las solicitudes de acceso a la Información a través de la Unidad de Transparencia, esta Comisión Estatal de Garantía y Acceso a la Información de San Luis Potosí, no resguarda o posee lo relativo a la información a que se refiere en su solicitud, así como tampoco es posible canalizar o turnar su requerimiento, ya que no podemos actuar como intermediarios entre usted y el Sujeto Obligado competente para atender su petición. Por lo anteriormente mencionado, me permito comunicarle que la información solicitada no se encuentra dentro de nuestras obligaciones según lo establecido en los artículos 20 y 151 de la Ley de Transparencia y Acceso a la información Pública del Estado de San Luis Potosí, ya que únicamente existe la obligación legal y administrativa de contar con la documentación que pertenece a la Institución, mas no aquella que refiere en su petición, es por ello que con fundamento en el artículo 54 fracción III de la Ley Estatal de la materia le sugiero que pudiera replantear su solicitud de manera clara y especifica también a través del Sistema de Solicitudes de Acceso a la Información (INFOMEX), en Ente Obligado: Municipios y en Dependencia o Entidad Pública: los Municipios de los cuales requiere la información, así como también en Ente Obligado: Poder Ejecutivo y en Dependencia o Entidad Pública: Oficialía Mayor de Gobierno del Estado de San Luis Potosí, igualmente solicitarlo al Poder Legislativo, al Poder Judicial, así como a cada Sujeto Obligado del cual requiere la información, ya que son ellos los sujetos obligados considerados que pudieran atender o en su caso orientar lo referente a su solicitud. Lo anteriormente expuesto, en base a lo establecido en el artículo 1° de la Ley de Tránsito del Estado de San Luis Potosí. De igual manera y si lo prefiere puede presentarla directamente en la Unidad de Transparencia de cada sujeto obligado sugerido para atender su solicitud de información. | I17: NINGUNO | J17: PNT | K17: NINGUNO | L17: =IF(Formato!$C17<>"",MONTH(C17),"") -> 7 | M17: =IF(Formato!$G17<>"",MONTH(G17),"") -> 7
A18: CEGAIP-SI-192/2019-00942719-PNT | B18: Gerardo Fernandez Noroña | C18: 43655 | D18: Solicito información sobre si la Universidad Tecnológica Metropolitana de San Luis Potosí está sujeta u obligada a presentar información de acceso público, en caso de que sí por que no se encuentra en esta página de transparencia y en caso de que la respuesta sea negativa su fundamentación, gracias. | E18: Contestada | F18: Información se encuentra disponible en la Plataforma. | G18: 43683 | H18: En atención a su requerimiento ser informa lo siguiente: Que el Pleno de esta Comisión mediante los acuerdos CEGAIP-174/2019 de fecha cinco de abril de 2019 y CEGAIP-295/2019 de fecha 13 de marzo de 2019 y publicado en el Periódico Oficial del Estado el día 15 de junio de 2019, determinó integrar como sujeto obligado a la Universidad Tecnológica Metropolitana de San Luis Potosí, a partir del año 2019 en virtud de la asignación de presupuesto mediante el presupuesto de egresos para el año 2019. Que dicha universidad si está obligada a permitir el acceso a la información pública, a los ejercicios de rendición de cuentas, y transparencia gubernamental, así como garantizar la protección de datos personales y la organización de archivos a través de los procesos de gestión documental; sin embargo, el sujeto obligado en mención, se encuentra en proceso de determinar sus obligaciones de transparencia, y remitirlas a esta Comisión para efecto de validación y revisión, así como generar los mecanismos de cumplimiento mencionados, por lo que aún no aparecen en la Plataforma Estatal de Transparencia. | I18: NINGUNO | J18: PNT | K18: NINGUNO | L18: =IF(Formato!$C18<>"",MONTH(C18),"") -> 7 | M18: =IF(Formato!$G18<>"",MONTH(G18),"") -> 8
A19: CEGAIP-SI-191/2019-00941319-PNT | B19: Mexicanos Contra la Corrupcion y la impunidadA.C. | C19: 43655 | D19: Respetable Pleno de la Comisión Estatal de Garantía de Acceso a la Información Pública del Estado de San Luis Potosí. Por medio del presente solicitamos conocer cuál es la postura y/o criterio que haya emitido el pleno de esa H. Comisión respecto a los requisitos con los que deben contar los integrantes de los H. Comités de Transparencia de los Sujetos Obligados, toda vez que, a pesar de que la Ley de la materia señala que los integrantes no deben de ser subordinados entre sí, nos hemos encontrado con una dura realidad, lo anterior debido a que en algunas áreas como en el Ayuntamiento de la ciudad de San Luis Potosí, su Comité de Transparencia, lo conforman integrantes que dependen jerárquicamente de otros integrantes, o en otros casos, hemos detectado incluso integrantes con plaza de intendencia o mantenimiento como lo es el Sistema Educativo Estatal Regular y así, en la mayoría de los sujetos Obligados también se aprecia un alto índice de empleados de los niveles administrativos más bajos sin el conocimiento especializado que debiese tener la máxima autoridad interna en cuestiones de transparencia y protección de datos personales; otro tema es sobre que la mayoría de los integrantes de los Comités de Transparencia del Ejecutivo, son conformados por personal contratado por honorarios, interinos y demás, situación que vulnera el correcto desempeño de dichos trabajadores; ya que al ser una parte fundamental de la lucha contra la corrupción, con éstas modalidades efímeras y al no tener seguridad laboral, sus integrantes pueden ser fácilmente coaccionados por otras autoridades que operen dentro del mismo sujeto obligado y romper así lo establecido en los principios de transparencia y rendición de cuentas, siendo evidente el dolo de los titulares de los sujetos obligados que conforman el ejecutivo para colocar individuos fáciles de manipular y sin autoridad real para resolver los asuntos que les confieren sus atribuciones pasando a ser una figura virtualmente ficticia. Por lo anterior también solicitamos cualquier documento o evidencia sobre revisiones que haya hecho este honorable órgano garante sobre la integración de los Comités de transparencia del Poder Ejecutivo del Estado de San Luis Potosí. La información anterior se solicita sea enviada por conducto de esta plataforma en el formato que sea adecuado para la misma. | E19: Contestada | F19: Información se encuentra disponible en la Plataforma. | G19: 43683 | H19: Pues bien, a continuación, la suscrita como presidente de la CEGAIP, y a nombre del Pleno que represento, me permito dar respuesta a lo solicitado: Ante todo, es necesario aclarar al solicitante que, respecto de lo que solicita, este Pleno no ha emitido postura o criterio en relación con los requisitos que deben de contar los integrantes de los Comités de Transparencia de los sujetos obligados, en otras palabras, no hay precedentes. Por lo que toca a las manifestaciones en el sentido de que, el ayuntamiento de la capital, en cuanto al Comité de Transparencia lo conforman integrantes que dependen jerárquicamente de otros integrantes, sobre lo anterior es necesario precisarle que para que este Pleno pueda, en un momento dado pronunciarse, debe de contar con el caso concreto, esto es, tener todos aquellos elementos que permitan analizar esa integración de acuerdo al artículo 51, párrafo tercero, pues este organismo no puede hacer pronunciamiento sobre un supuesto, como el que menciona. Además, de conformidad con el artículo 24, fracción I, de la Ley de Transparencia en primera instancia a quien compete la obligación de que se constituya el Comité de Transparencia es al propio sujeto obligado, en el entendido de que éste, debe de salvaguardar que aquél esté debidamente constituido, pues dicho precepto incluso expresa que el sujeto obligado debe de vigilar su correcto funcionamiento de acuerdo a su normatividad interna. En otro asunto y, en lo que el solicitante manifiesta sobre, por un lado, que ha detectado que en el Sistema Educativo Estatal Regular los integrantes del Comité de Transparencia tienen, de acuerdo a él, plaza de intendencia y, por otro lado, que en la mayoría de los sujetos obligados los integrantes del Comité de Transparencia son empleados administrativos de los niveles más bajos y, de acuerdo al solicitante, sin el conocimiento especializado que deben de tener para la máxima autoridad interna en cuestiones de transparencia y protección de datos personales y, por otro lado más, que la mayoría de los integrantes de los Comités de Transparencia del Poder Ejecutivo son conformados por personal contratados por honorarios interinos y, además esta situación vulnera el correcto desempeño de los trabajadores ––ya que al ser una parte fundamental de la lucha contra la corrupción, con éstas modalidades (sic) efímeras y al no tener seguridad laboral, sus integrantes ser pueden fácilmente coaccionados por otras autoridades que operen dentro del mismo sujeto obligado y romper así lo establecido en los principios de rendición de cuentas, siendo evidente el dolo de los titulares de los sujetos obligados que conforman el ejecutivo para colocar individuos fáciles de manipular y sin autoridad real para resolver los asuntos que les confieren sus atribuciones pasando a ser una figura virtualmente vitalicia––. Pues bien, sobre lo anterior este Pleno se pronuncia de la manera siguiente: El artículo 51 de la Ley de Transparencia dispone que: ARTÍCULO 51. En cada sujeto obligado se integrará un Comité de Transparencia colegiado e integrado por un número impar. El Comité de Transparencia adoptará sus resoluciones por mayoría de votos. En caso de empate, el Presidente tendrá voto de calidad. A sus sesiones podrán asistir como invitados aquéllos que sus integrantes consideren necesarios, quienes tendrán voz, pero no voto. Los integrantes del Comité de Transparencia no podrán depender jerárquicamente entre sí dentro de la estructura funcional del sujeto obligado; tampoco podrán reunirse dos o más de estos integrantes en una sola persona. Cuando se presente el caso, el titular del sujeto obligado tendrá que nombrar a la persona que supla al subordinado. Los integrantes del Comité de Transparencia tendrán acceso a la información para determinar su clasificación, conforme a la normatividad previamente establecida por los sujetos obligados para el resguardo o salvaguarda de la información. Ahora, como ya se dijo, de acuerdo al artículo 24, fracción I, de la Ley de Transparencia es al sujeto obligado a quien le compete la obligación de que se constituya el Comité de Transparencia. De ahí que los elementos a considerar en la integración del Comité de Transparencia de acuerdo al artículo 51 de la Ley de Transparencia son: • Que en cada sujeto obligado se integre un Comité de Transparencia. • Que el Comité de Transparencia sea colegiado. • Que el Comité de Transparencia al ser colegiado, éste sea impar. • Que, en el Comité de Transparencia, sus integrantes, no podrán depender jerárquicamente entre sí dentro de la estructura funcional del sujeto obligado. • Que tampoco podrán reunirse dos o más de estos integrantes en una sola persona y, que cuando se presente el caso, el titular del sujeto obligado tendrá que nombrar a la persona que supla al subordinado. Como se observa, el legislador nada dijo sobre las manifestaciones que hace el peticionario, es decir, sobre si los integrantes del Comité de Transparencia, para su debida integración tenía que ser de puestos o plazas de algún tipo de nivel dentro del sujeto obligado o, el tipo de relación laboral que debían de tener dicho integrantes con el sujeto obligado. Por ello, esta Comisión de Transparencia no puede hacer siquiera un pronunciamiento en ese sentido en virtud de que, al ser un órgano colegiado aplica los principios de imparcialidad y legalidad previstos en el artículo 8°, fracciones III y V de la Ley de Transparencia, en el sentido de que en donde el legislador no distinguió, el operador jurídico no puede hacerlo, pues, como se vio, de acuerdo al artículo 51, en la especie los sujetos obligados deben de cumplir con lo que le exige la norma en cuanto a los propios elementos de integración del Comité de Transparencia. Por lo que se refiere el solicitante sobre la especialización o no, de quienes dicen que integran los Comités de Transparencia de los sujetos obligados que menciona, este Pleno además de que, no puede tener injerencia en la conformación de aquéllos por ser una facultad exclusiva de cada sujeto obligado, tampoco puede dar un sentido o como lo dice el peticionario postura o criterio, pues ello, sería tanto como prejuzgar la capacidad o no de las personas que integran los Comités de Transparencia derivado de su puesto o forma de contratación con el sujeto obligado, al grado de que, emitir un pronunciamiento en tal o cual sentido podría ser, incluso, motivo de discriminación, situación que está vedada en términos del párrafo tercero del artículo 1° de la Constitución Política de los Estados Unidos Mexicanos. Por último y, en relación a que solicita documentos o evidencia sobre revisión que este Pleno haya hecho sobre la integración de los Comités de Transparencia del Poder Ejecutivo del estado de San Luis Potosí, en el caso y, por las mismas manifestaciones ya expuestas, este Pleno no ha realizado pronunciamiento alguno y, por ende, no hay documento en ese sentido. De ahí que no sea el caso que el Comité de Información de esta CEGAIP declare la inexistencia sobre la información solicitada, en virtud de que, de acuerdo a la disposición vista, esto es el artículo 51 de la Ley de Transparencia y, de lo que solicitó no existe obligación de generar esa información. Lo anterior es de acuerdo al criterio 7/10 del Instituto Nacional de Transparencia, Acceso a la Información y Protección de Datos Personales que es como sigue. No será necesario que el Comité de Información declare formalmente la inexistencia, cuando del análisis a la normatividad aplicable no se desprenda obligación alguna de contar con la información solicitada ni se advierta algún otro elemento de convicción que apunte a su existencia. La Ley Federal de Transparencia y Acceso a la Información Pública Gubernamental y su Reglamento prevén un procedimiento a seguir para declarar formalmente la inexistencia por parte de las dependencias y entidades de la Administración Pública Federal. Éste implica, entre otras cosas, que los Comités de Información confirmen la inexistencia manifestada por las unidades administrativas competentes que hubiesen realizado la búsqueda de la información que se solicitó. No obstante, lo anterior, existen situaciones en las que, por una parte, al analizar la normatividad aplicable a la materia de la solicitud, no se advierte obligación alguna por parte de las dependencias y entidades de contar con la información y, por otra, no se tienen suficientes elementos de convicción que permitan suponer que ésta existe. En estos casos, se considera que no es necesario que el Comité de Información declare formalmente la inexistencia de los documentos requeridos. Asimismo, se hace de su conocimiento que la información se le entrega en el estado en que se encuentra, de conformidad con el artículo 60 y 61 de la Ley de Transparencia y Acceso a la Información Pública del Estado de San Luis Potosí. Finalmente, de conformidad con el artículo 154 tercer párrafo de la Ley de Transparencia y Acceso a la Información Pública del Estado de San Luis Potosí, se le informa que en caso de inconformidad podrá interponer el recurso de revisión establecido en el artículo 166 de la Ley de Transparencia y Acceso a la Información Pública del Estado de San Luis Potosí. | I19: NINGUNO | J19: PNT | K19: NINGUNO | L19: =IF(Formato!$C19<>"",MONTH(C19),"") -> 7 | M19: =IF(Formato!$G19<>"",MONTH(G19),"") -> 8
A20: CEGAIP-SI-190/2019-00939919-PNT | B20: Santiago Veiga Gandara | C20: 43655 | D20: Enlistar las principales 10 causas por las cuales se presentaron denuncias ante el Instituto por la violación del derecho de protección de datos personales en posesión de Sujetos Obligados desde la entrada en vigor de la más reciente Ley de Protección de Datos Personales del Estado hasta el 30 de junio de 2019. | E20: Contestada | F20: Información se encuentra disponible en la Plataforma. | G20: 43664 | H20: Por este conducto, otorgo contestación en tiempo y forma, a las solicitudes de información CEGAIP-SI-187/19-PNT, CEGAIP-SI-188/19-PNT, CEGAIP-SI-189/19-PNT y CEGAIP-SI-190/19-PNT, en el siguiente sentido: Respecto de la solicitud CEGAIP-SI-187/19-PNT, se le otorga la siguiente información: Denuncias por violación al derecho de protección de datos personales de 2017 a 30 de junio de 2019 Sujeto obligado Cantidad de denuncias Procuraduría General de Justicia del Estado de San Luis Potosí 1 (una) Colegio de Bachilleres del Estado de San Luis Potosí. 1 (una) Escuela Primaria Vespertina Gabriela Mistral 1 (una) Secretaría de Comunicaciones y Transportes del Estado de San Luis Potosí 1 (una) Secretaría de Educación Pública de Gobierno del Estado, Sistema Educativo Estatal Regular y Benemérita y Centenaria Normal del Estado. En conjunto. 1 (una) Secretaría de Educación de Gobierno del Estado. 1 (una) Ayuntamiento de Cedral, S.L.P. 1 (una) Ayuntamiento de San Luis Potosí, S.L.P. 4 (cuatro) Tribunal Estatal de Justicia Administrativa del Estado de San Luis Potosí. 2 (dos) Servicios de Salud del Estado. 1 (una) TOTAL 14 En relación a las solicitudes CEGAIP-SI-188/19-PNT y CEGAIP-SI-189/19-PNT, de la entrada en vigor de la Ley de Protección de Datos Personales en posesión de los Sujetos Obligados del Estado de San Luis Potosí al 30 de junio de 2019, no se ha sancionado a algún servidor público de ningún sujeto obligado, por la violación del derecho a la protección de datos personales, por ende, no existen sanciones impuestas a aquéllos. Finalmente, respecto a la solicitud CEGAIP-SI-190/19-PNT, se le comunica que la única causa por la que se han presentado denuncias ante este organismo por la violación del derecho de protección de datos personales en contra de los sujetos obligados, de la entrada en vigor de la Ley de la materia (2017) al 30 de junio de 2019, ha sido por difusión de datos personales. | I20: NINGUNO | J20: PNT | K20: NINGUNO | L20: =IF(Formato!$C20<>"",MONTH(C20),"") -> 7 | M20: =IF(Formato!$G20<>"",MONTH(G20),"") -> 7
A21: CEGAIP-SI-189/2019-00939819-PNT | B21: Santiago Veiga Gandara | C21: 43655 | D21: ¿En qué consistió cada una de las sanciones impuestas a servidores públicos o personal de los Sujetos Obligados por la violación del derecho a la protección de los datos personales desde la entrada en vigor de la más reciente Ley de Protección de Datos Personales del Estado hasta el 30 de junio de 2019? Desglosar en una lista el tipo de sanción en forma cronológica | E21: Contestada | F21: Información se encuentra disponible en la Plataforma. | G21: 43664 | H21: Por este conducto, otorgo contestación en tiempo y forma, a las solicitudes de información CEGAIP-SI-187/19-PNT, CEGAIP-SI-188/19-PNT, CEGAIP-SI-189/19-PNT y CEGAIP-SI-190/19-PNT, en el siguiente sentido: Respecto de la solicitud CEGAIP-SI-187/19-PNT, se le otorga la siguiente información: Denuncias por violación al derecho de protección de datos personales de 2017 a 30 de junio de 2019 Sujeto obligado Cantidad de denuncias Procuraduría General de Justicia del Estado de San Luis Potosí 1 (una) Colegio de Bachilleres del Estado de San Luis Potosí. 1 (una) Escuela Primaria Vespertina Gabriela Mistral 1 (una) Secretaría de Comunicaciones y Transportes del Estado de San Luis Potosí 1 (una) Secretaría de Educación Pública de Gobierno del Estado, Sistema Educativo Estatal Regular y Benemérita y Centenaria Normal del Estado. En conjunto. 1 (una) Secretaría de Educación de Gobierno del Estado. 1 (una) Ayuntamiento de Cedral, S.L.P. 1 (una) Ayuntamiento de San Luis Potosí, S.L.P. 4 (cuatro) Tribunal Estatal de Justicia Administrativa del Estado de San Luis Potosí. 2 (dos) Servicios de Salud del Estado. 1 (una) TOTAL 14 En relación a las solicitudes CEGAIP-SI-188/19-PNT y CEGAIP-SI-189/19-PNT, de la entrada en vigor de la Ley de Protección de Datos Personales en posesión de los Sujetos Obligados del Estado de San Luis Potosí al 30 de junio de 2019, no se ha sancionado a algún servidor público de ningún sujeto obligado, por la violación del derecho a la protección de datos personales, por ende, no existen sanciones impuestas a aquéllos. Finalmente, respecto a la solicitud CEGAIP-SI-190/19-PNT, se le comunica que la única causa por la que se han presentado denuncias ante este organismo por la violación del derecho de protección de datos personales en contra de los sujetos obligados, de la entrada en vigor de la Ley de la materia (2017) al 30 de junio de 2019, ha sido por difusión de datos personales. | I21: NINGUNO | J21: PNT | K21: NINGUNO | L21: =IF(Formato!$C21<>"",MONTH(C21),"") -> 7 | M21: =IF(Formato!$G21<>"",MONTH(G21),"") -> 7
A22: CEGAIP-SI-188/2019-00938819-PNT | B22: Santiago Veiga Gandara | C22: 43655 | D22: ¿Cuántos servidores públicos o personal de los Sujetos Obligados fueron sancionados por la violación del derecho a la protección de los datos personales desde la entrada en vigor de la más reciente Ley de Protección de Datos Personales del Estado hasta el 30 de junio de 2019? Desglosar en una la lista el número de servidores o personal y el nombre del Sujetos Obligados al que pertenecen. | E22: Contestada | F22: Información se encuentra disponible en la Plataforma. | G22: 43664 | H22: Por este conducto, otorgo contestación en tiempo y forma, a las solicitudes de información CEGAIP-SI-187/19-PNT, CEGAIP-SI-188/19-PNT, CEGAIP-SI-189/19-PNT y CEGAIP-SI-190/19-PNT, en el siguiente sentido: Respecto de la solicitud CEGAIP-SI-187/19-PNT, se le otorga la siguiente información: Denuncias por violación al derecho de protección de datos personales de 2017 a 30 de junio de 2019 Sujeto obligado Cantidad de denuncias Procuraduría General de Justicia del Estado de San Luis Potosí 1 (una) Colegio de Bachilleres del Estado de San Luis Potosí. 1 (una) Escuela Primaria Vespertina Gabriela Mistral 1 (una) Secretaría de Comunicaciones y Transportes del Estado de San Luis Potosí 1 (una) Secretaría de Educación Pública de Gobierno del Estado, Sistema Educativo Estatal Regular y Benemérita y Centenaria Normal del Estado. En conjunto. 1 (una) Secretaría de Educación de Gobierno del Estado. 1 (una) Ayuntamiento de Cedral, S.L.P. 1 (una) Ayuntamiento de San Luis Potosí, S.L.P. 4 (cuatro) Tribunal Estatal de Justicia Administrativa del Estado de San Luis Potosí. 2 (dos) Servicios de Salud del Estado. 1 (una) TOTAL 14 En relación a las solicitudes CEGAIP-SI-188/19-PNT y CEGAIP-SI-189/19-PNT, de la entrada en vigor de la Ley de Protección de Datos Personales en posesión de los Sujetos Obligados del Estado de San Luis Potosí al 30 de junio de 2019, no se ha sancionado a algún servidor público de ningún sujeto obligado, por la violación del derecho a la protección de datos personales, por ende, no existen sanciones impuestas a aquéllos. Finalmente, respecto a la solicitud CEGAIP-SI-190/19-PNT, se le comunica que la única causa por la que se han presentado denuncias ante este organismo por la violación del derecho de protección de datos personales en contra de los sujetos obligados, de la entrada en vigor de la Ley de la materia (2017) al 30 de junio de 2019, ha sido por difusión de datos personales. | I22: NINGUNO | J22: PNT | K22: NINGUNO | L22: =IF(Formato!$C22<>"",MONTH(C22),"") -> 7 | M22: =IF(Formato!$G22<>"",MONTH(G22),"") -> 7
A23: CEGAIP-SI-187/2019-00938619-PNT | B23: Santiago Veiga Gandara | C23: 43655 | D23: Informar los nombres de los Sujetos Obligados que fueron denunciados por la violación del derecho de protección de datos personales desde la entrada en vigor de la más reciente Ley de Protección de Datos Personales del Estado hasta el 30 de junio de 2019. Desglosar la lista de los Sujetos Obligados con la cantidad de denuncias registradas | E23: Contestada | F23: Información se encuentra disponible en la Plataforma. | G23: 43664 | H23: Por este conducto, otorgo contestación en tiempo y forma, a las solicitudes de información CEGAIP-SI-187/19-PNT, CEGAIP-SI-188/19-PNT, CEGAIP-SI-189/19-PNT y CEGAIP-SI-190/19-PNT, en el siguiente sentido: Respecto de la solicitud CEGAIP-SI-187/19-PNT, se le otorga la siguiente información: Denuncias por violación al derecho de protección de datos personales de 2017 a 30 de junio de 2019 Sujeto obligado Cantidad de denuncias Procuraduría General de Justicia del Estado de San Luis Potosí 1 (una) Colegio de Bachilleres del Estado de San Luis Potosí. 1 (una) Escuela Primaria Vespertina Gabriela Mistral 1 (una) Secretaría de Comunicaciones y Transportes del Estado de San Luis Potosí 1 (una) Secretaría de Educación Pública de Gobierno del Estado, Sistema Educativo Estatal Regular y Benemérita y Centenaria Normal del Estado. En conjunto. 1 (una) Secretaría de Educación de Gobierno del Estado. 1 (una) Ayuntamiento de Cedral, S.L.P. 1 (una) Ayuntamiento de San Luis Potosí, S.L.P. 4 (cuatro) Tribunal Estatal de Justicia Administrativa del Estado de San Luis Potosí. 2 (dos) Servicios de Salud del Estado. 1 (una) TOTAL 14 En relación a las solicitudes CEGAIP-SI-188/19-PNT y CEGAIP-SI-189/19-PNT, de la entrada en vigor de la Ley de Protección de Datos Personales en posesión de los Sujetos Obligados del Estado de San Luis Potosí al 30 de junio de 2019, no se ha sancionado a algún servidor público de ningún sujeto obligado, por la violación del derecho a la protección de datos personales, por ende, no existen sanciones impuestas a aquéllos. Finalmente, respecto a la solicitud CEGAIP-SI-190/19-PNT, se le comunica que la única causa por la que se han presentado denuncias ante este organismo por la violación del derecho de protección de datos personales en contra de los sujetos obligados, de la entrada en vigor de la Ley de la materia (2017) al 30 de junio de 2019, ha sido por difusión de datos personales. | I23: NINGUNO | J23: PNT | K23: NINGUNO | L23: =IF(Formato!$C23<>"",MONTH(C23),"") -> 7 | M23: =IF(Formato!$G23<>"",MONTH(G23),"") -> 7
